BEGIN:VCALENDAR
PRODID:-//Microsoft Corporation//Outlook 12.0 MIMEDIR//EN
VERSION:2.0
METHOD:PUBLISH
X-MS-OLK-FORCEINSPECTOROPEN:TRUE
BEGIN:VEVENT
CLASS:PUBLIC
CREATED:20170106T095200Z
DESCRIPTION:
DTEND:20171121T000000Z
DTSTAMP:20170106T095200Z
DTSTART:20171121T000000Z
LAST-MODIFIED:20180509T090900Z
LOCATION:
PRIORITY:5
SEQUENCE:0
SUMMARY;LANGUAGE=en-us:EXECUTIVE MAYOR'S MEETING 2017
TRANSP:OPAQUE
UID:20211004T190102-1749483880-wcdlg
X-MICROSOFT-CDO-BUSYSTATUS:BUSY
X-MICROSOFT-CDO-IMPORTANCE:1
X-MICROSOFT-DISALLOW-COUNTER:FALSE
X-MS-OLK-ALLOWEXTERNCHECK:TRUE
X-MS-OLK-AUTOFILLLOCATION:FALSE
X-MS-OLK-CONFTYPE:0
BEGIN:VALARM
TRIGGER:-PT1440M
ACTION:DISPLAY
DESCRIPTION:Reminder
END:VALARM
END:VEVENT
END:VCALENDAR
